BEGIN:VCALENDAR
VERSION:2.0
PRODID:-//jEvents 2.0 for Joomla//EN
CALSCALE:GREGORIAN
METHOD:PUBLISH
BEGIN:VTIMEZONE
TZID:Europe/Paris
BEGIN:STANDARD
DTSTART:20250317T000000
RDATE:20250330T030000
TZOFFSETFROM:+0200
TZOFFSETTO:+0100
TZNAME:Europe/Paris CET
END:STANDARD
BEGIN:STANDARD
DTSTART:20251026T020000
RDATE:20260329T030000
TZOFFSETFROM:+0200
TZOFFSETTO:+0100
TZNAME:Europe/Paris CET
END:STANDARD
BEGIN:STANDARD
DTSTART:20261025T020000
RDATE:20270328T030000
TZOFFSETFROM:+0200
TZOFFSETTO:+0100
TZNAME:Europe/Paris CET
END:STANDARD
BEGIN:STANDARD
DTSTART:20271031T020000
RDATE:20280326T030000
TZOFFSETFROM:+0200
TZOFFSETTO:+0100
TZNAME:Europe/Paris CET
END:STANDARD
BEGIN:STANDARD
DTSTART:20281029T020000
RDATE:20290325T030000
TZOFFSETFROM:+0200
TZOFFSETTO:+0100
TZNAME:Europe/Paris CET
END:STANDARD
BEGIN:STANDARD
DTSTART:20291028T020000
RDATE:20300331T030000
TZOFFSETFROM:+0200
TZOFFSETTO:+0100
TZNAME:Europe/Paris CET
END:STANDARD
BEGIN:STANDARD
DTSTART:20301027T020000
RDATE:20310330T030000
TZOFFSETFROM:+0200
TZOFFSETTO:+0100
TZNAME:Europe/Paris CET
END:STANDARD
BEGIN:STANDARD
DTSTART:20311026T020000
RDATE:20320328T030000
TZOFFSETFROM:+0200
TZOFFSETTO:+0100
TZNAME:Europe/Paris CET
END:STANDARD
BEGIN:DAYLIGHT
DTSTART:20250330T030000
RDATE:20251026T020000
TZOFFSETFROM:+0100
TZOFFSETTO:+0200
TZNAME:Europe/Paris CEST
END:DAYLIGHT
BEGIN:DAYLIGHT
DTSTART:20260329T030000
RDATE:20261025T020000
TZOFFSETFROM:+0100
TZOFFSETTO:+0200
TZNAME:Europe/Paris CEST
END:DAYLIGHT
BEGIN:DAYLIGHT
DTSTART:20270328T030000
RDATE:20271031T020000
TZOFFSETFROM:+0100
TZOFFSETTO:+0200
TZNAME:Europe/Paris CEST
END:DAYLIGHT
BEGIN:DAYLIGHT
DTSTART:20280326T030000
RDATE:20281029T020000
TZOFFSETFROM:+0100
TZOFFSETTO:+0200
TZNAME:Europe/Paris CEST
END:DAYLIGHT
BEGIN:DAYLIGHT
DTSTART:20290325T030000
RDATE:20291028T020000
TZOFFSETFROM:+0100
TZOFFSETTO:+0200
TZNAME:Europe/Paris CEST
END:DAYLIGHT
BEGIN:DAYLIGHT
DTSTART:20300331T030000
RDATE:20301027T020000
TZOFFSETFROM:+0100
TZOFFSETTO:+0200
TZNAME:Europe/Paris CEST
END:DAYLIGHT
BEGIN:DAYLIGHT
DTSTART:20310330T030000
RDATE:20311026T020000
TZOFFSETFROM:+0100
TZOFFSETTO:+0200
TZNAME:Europe/Paris CEST
END:DAYLIGHT
END:VTIMEZONE
BEGIN:VEVENT
UID:9f3d8473a4984545d95b87081d3336f6
CATEGORIES:Cours bio
CREATED:20260109T183624
SUMMARY:Bio Martinique
LOCATION:Gymnase Jean Fournier
DESCRIPTION:Marc nous propose une soirée orientée bio en Martinique.\nCette soirée est 
 préférentiellement destinée à celles et ceux qui vont faire le voyage Marti
 nique cette année mais toutes celles et ceux qui sont intéressés sont les b
 ienvenus.\nCette présentation abordera la faune et la flore que l'on rencon
 tre dans les caraïbes.\nMerci d'indiquer si vous participerez à cette soiré
 e en cliquant sur le bouton de participation ci-dessous.\n!!! Il faut être 
 logué sur le site pour pouvoir voir ce bouton.\n \n
X-ALT-DESC;FMTTYPE=text/html:<p>Marc nous propose une soirée orientée bio en Martinique.</p><p>Cette soi
 rée est préférentiellement destinée à celles et ceux qui vont faire le voya
 ge Martinique cette année mais toutes celles et ceux qui sont intéressés so
 nt les bienvenus.</p><p>Cette présentation abordera la faune et la flore qu
 e l'on rencontre dans les caraïbes.</p><p>Merci d'indiquer si vous particip
 erez à cette soirée en cliquant sur le bouton de participation ci-dessous.<
 /p><p>!!! Il faut être logué sur le site pour pouvoir voir ce bouton.</p><p
 > </p>
CONTACT:Marc
DTSTAMP:20260422T000804
DTSTART;TZID=Europe/Paris;VALUE=DATE:20260318
DTEND;TZID=Europe/Paris;VALUE=DATE:20260319
SEQUENCE:0
TRANSP:OPAQUE
END:VEVENT
END:VCALENDAR