BEGIN:VCALENDAR
VERSION:2.0
PRODID:-//jEvents 2.0 for Joomla//EN
CALSCALE:GREGORIAN
METHOD:PUBLISH
BEGIN:VTIMEZONE
TZID:Europe/Paris
BEGIN:STANDARD
DTSTART:20250326T080000
RDATE:20250330T030000
TZOFFSETFROM:+0200
TZOFFSETTO:+0100
TZNAME:Europe/Paris CET
END:STANDARD
BEGIN:STANDARD
DTSTART:20251026T020000
RDATE:20260329T030000
TZOFFSETFROM:+0200
TZOFFSETTO:+0100
TZNAME:Europe/Paris CET
END:STANDARD
BEGIN:STANDARD
DTSTART:20261025T020000
RDATE:20270328T030000
TZOFFSETFROM:+0200
TZOFFSETTO:+0100
TZNAME:Europe/Paris CET
END:STANDARD
BEGIN:STANDARD
DTSTART:20271031T020000
RDATE:20280326T030000
TZOFFSETFROM:+0200
TZOFFSETTO:+0100
TZNAME:Europe/Paris CET
END:STANDARD
BEGIN:STANDARD
DTSTART:20281029T020000
RDATE:20290325T030000
TZOFFSETFROM:+0200
TZOFFSETTO:+0100
TZNAME:Europe/Paris CET
END:STANDARD
BEGIN:STANDARD
DTSTART:20291028T020000
RDATE:20300331T030000
TZOFFSETFROM:+0200
TZOFFSETTO:+0100
TZNAME:Europe/Paris CET
END:STANDARD
BEGIN:STANDARD
DTSTART:20301027T020000
RDATE:20310330T030000
TZOFFSETFROM:+0200
TZOFFSETTO:+0100
TZNAME:Europe/Paris CET
END:STANDARD
BEGIN:STANDARD
DTSTART:20311026T020000
RDATE:20320328T030000
TZOFFSETFROM:+0200
TZOFFSETTO:+0100
TZNAME:Europe/Paris CET
END:STANDARD
BEGIN:DAYLIGHT
DTSTART:20250330T030000
RDATE:20251026T020000
TZOFFSETFROM:+0100
TZOFFSETTO:+0200
TZNAME:Europe/Paris CEST
END:DAYLIGHT
BEGIN:DAYLIGHT
DTSTART:20260329T030000
RDATE:20261025T020000
TZOFFSETFROM:+0100
TZOFFSETTO:+0200
TZNAME:Europe/Paris CEST
END:DAYLIGHT
BEGIN:DAYLIGHT
DTSTART:20270328T030000
RDATE:20271031T020000
TZOFFSETFROM:+0100
TZOFFSETTO:+0200
TZNAME:Europe/Paris CEST
END:DAYLIGHT
BEGIN:DAYLIGHT
DTSTART:20280326T030000
RDATE:20281029T020000
TZOFFSETFROM:+0100
TZOFFSETTO:+0200
TZNAME:Europe/Paris CEST
END:DAYLIGHT
BEGIN:DAYLIGHT
DTSTART:20290325T030000
RDATE:20291028T020000
TZOFFSETFROM:+0100
TZOFFSETTO:+0200
TZNAME:Europe/Paris CEST
END:DAYLIGHT
BEGIN:DAYLIGHT
DTSTART:20300331T030000
RDATE:20301027T020000
TZOFFSETFROM:+0100
TZOFFSETTO:+0200
TZNAME:Europe/Paris CEST
END:DAYLIGHT
BEGIN:DAYLIGHT
DTSTART:20310330T030000
RDATE:20311026T020000
TZOFFSETFROM:+0100
TZOFFSETTO:+0200
TZNAME:Europe/Paris CEST
END:DAYLIGHT
END:VTIMEZONE
BEGIN:VEVENT
UID:5ec0e16a9d372c221b8ef0ea1dd0bef6
CATEGORIES:Sorties
CREATED:20251211T100504
SUMMARY:UCPA Martinique
LOCATION:UCPA Martinique
DESCRIPTION:<table border="0" cellspacing="0" cellpadding="0"><tbody><tr><td><div conte
 nteditable="false" spellcheck="false"><p><strong>Envie d'eau chaude à la so
 rtie de l'hiver, de poissons et coraux multicolores et d'un peu de dépaysem
 ent, le FAR vous propose une destination cocotier fin mars début avril en M
 artinique dans le centre UCPA proche de St Pierre.</strong></p><p> </p><p><
 strong>Alors n'hésitez pas !</strong></p><p> </p><p><strong>Précision impor
 tante</strong> :  cette sortie est sous la responsabilité de l'UCPA et non 
 du FAR. Chaque inscription se fait individuellement directement sur le site
  de l'UCPA, le FAR ne fait que collecter les membres intéressés par la sort
 ie et fournir les informations nécessaires sur son déroulement.</p><p> </p>
 </div></td></tr><tr><td><div contenteditable="false" spellcheck="false"><h1
 >Descriptif</h1></div></td></tr><tr><td><div contenteditable="false" spellc
 heck="false"><p><strong>Lieu</strong> : Martinique - St Pierre</p><p><stron
 g>Dates</strong> : du 27/03 au 03/04/2026 (retour le matin du 04/04 selon i
 nfo UCPA)</p><p><strong>Niveaux</strong> : Ouvert à tous niveaux (voir form
 ules) </p><p><strong>Nombre de plongées</strong> : 9</p><p><strong>Âge</str
 ong> : <strong>18 à 55 ans - l'âge pris en compte étant celui au moment du 
 départ </strong></p><p> </p><p>A noter que l’encadrement se fera par l’équi
 pe UCPA sur place, selon les modalités rappelées dans les descriptifs ci-de
 ssous.</p><p> </p><p>Pas de gestion en groupe des inscriptions. Chacun doit
  s’inscrire individuellement sur le site de l’UCPA, en sélectionnant « acti
 vités », « mer », « plongée » et enfin, selon son choix, l’une des 2 formul
 es ci-dessous </p><p> </p><p>Les places étant en nombre limité, ne tardez p
 as à vous inscrire. Faites-le dès maintenant. </p><p> </p><p>Merci de vous 
 remplir le formulaire qui s'affichera en cliquant sur le bouton au bas de c
 ette communication <strong>et de vous inscrire sur le site de l'UCPA en sui
 vant l'un des deux liens fournis suivant la formule choisie</strong>. Le re
 mplissage du formulaire nous permet de connaître et de suivre la liste des 
 personnes inscrites à la sortie mais seule l'inscription sur le site de l'U
 CPA fait foi.</p><p> </p><p>A noter qu'au moment de l'inscription sur le si
 te de l'UCPA, un code promo peut être ajouté. La Licence FFESSM donne droit
  à -5%. Vérifier avec vos CE ou autre si vous avez mieux. </p><p> </p><p><a
  href="https://www.ucpa.com/activites/sejour-plongee" target="_blank" rel="
 noopener">https://www.ucpa.com/activites/sejour-plongee</a></p><p> </p><p> 
 </p><p><strong>Prix hors réduction et hors assurances ou option (excursions
 ) : </strong></p><ul><li>PRIX Formule 1 (Ouvert N1 mini) : <strong>1820 </s
 trong>€ hors assurance (+95€ avec assurance)</li><li>PRIX Formule 2 (Ouvert
  N2 mini) : <strong>1780 </strong>€ hors assurance (+95€ avec assurance)</l
 i></ul><p> </p><p>Conditions assurance à lire en suivant le lien suivant : 
 <a href="https://www.ucpa.com/assurances/%C2%A0" target="_blank" rel="noope
 ner">https://www.ucpa.com/assurances/ </a></p><p> </p><p>Les 2 formules dis
 ponibles sur ces dates en fonction du niveau :</p></div></td></tr><tr><td><
 hr /></td></tr><tr><td><div contenteditable="false" spellcheck="false"><h2>
 Formule 1 (Niveau 1 minimum) </h2><p> </p><p><strong>PLONGEE EXPLORATION MA
 RTINIQUE 8 JOURS</strong></p><p> </p><p>Martinique Saint Pierre </p><p>Une 
 semaine de plongée dans les eaux translucides de St Pierre</p><p> </p><p>Li
 en pour l'inscription sur le site de l'UCPA :</p><p> </p><p><a href="https:
 //www.ucpa.com/sejour/antilles/paaspip10-plongee-exploration-caraibes-vacan
 ces" target="_blank" rel="noopener">https://www.ucpa.com/sejour/antilles/pa
 aspip10-plongee-exploration-caraibes-vacances</a></p><p> </p><p><strong>LE 
 SÉJOUR EN BREF</strong></p><p> </p><p>Pure sport/ Vous êtes titulaire du 1e
 r niveau de plongée minimum et vous souhaitez profiter des conditions excep
 tionnelles des Antilles : eaux chaudes et translucides, fonds superbes et v
 ie sous-marine foisonnante. A partir du ponton de l'UCPA, situé au pied de 
 votre hébergement, vous avez un point de départ idéal pour accéder rapideme
 nt aux meilleurs sites de plongée du nord Caraïbes.</p><p> </p><p>Séjour d'
 une semaine incluant 9 plongées avec moniteur. La côte Caraïbes, protégée d
 e la houle de l'Atlantique, est un des spots les plus réputés des Antilles.
  Les sites du nord autour de Saint-Pierre ont été façonnés par l'environnem
 ent volcanique : du sable noir, et des canyons formés par la lave suite à l
 a catastrophe historique de l'éruption de la montagne Pelée en 1902. A part
 ir des sites prestigieux et singuliers du secteur : Le rocher de la Perle, 
 les canyons de Babodi, la pointe Lamarre ou les jardins du prêcheur, vous p
 rofitez des superbes décors avec tombants, canyons et jardins coralliens. L
 a vie sous-marine y est riche de coraux, d'éponges, de poissons récifs et d
 e tortues. De retour au village sportif, vous apprécierez la piscine domina
 nt la baie, les superbes couchers de soleil et l'ambiance paisible et authe
 ntique de Saint-Pierre. Pré requis Niveaux Validés : Niveau 1 Fédéral Franç
 ais ou Open Water Diver (SSI et PADI) ou CMAS* * </p><p> </p><p><strong>LES
  TOPS DU PRODUIT</strong></p><p> </p><p>Programme full plongée incluant 9 p
 longées</p><p>Sélection des meilleurs sites de plongée Nord Caraïbes</p><p>
 Base de plongée et bateaux à 150m de l'hébergement</p><p>Hébergement agréab
 le en chambre double avec piscine face à la mer</p><p> </p><p><strong>Inclu
 s</strong></p><p> </p><ul><li>Hébergement et restauration en pension complè
 te</li><li>9 séances de plongée avec moniteur</li><li>Le matériel de plongé
 e (sauf ordinateur)</li><li>L'animation des soirées</li></ul><p> </p><p><st
 rong>Non Inclus</strong></p><p> </p><ul><li>Les consommations bar</li><li>L
 es activités pendant les temps libres</li></ul><p> </p><p><strong>En option
 </strong></p><p> </p><ul><li>Excursion Sud de la Martinique</li></ul><p>  <
 /p><p><strong>PRIX FORMULE 1: 1820€ hors assurance</strong></p><p> </p></di
 v></td></tr><tr><td><hr /></td></tr><tr><td><div contenteditable="false" sp
 ellcheck="false"><h2>Formule 2 (Niveau 2 minimum) </h2><p> </p><p><strong>P
 LONGEE EXPLORATION MARTINIQUE 8 JOURS</strong></p><p> </p><p>PLONGEE EXPLOR
 ATION PROFONDE CARAIBES 8 JOURS</p><p>Les Antilles - Martinique St Pierre -
  Les Iles</p><p> </p><p>Lien pour l'inscription sur le site de l'UCPA :</p>
 <p> </p><p><a title="https://www.ucpa.com/sejour/antilles/paaspip18-plongee
 -exploration-profonde-caraibes-vacances" href="https://www.ucpa.com/sejour/
 antilles/paaspip18-plongee-exploration-profonde-caraibes-vacances" target="
 _blank" rel="noopener">https://www.ucpa.com/sejour/antilles/paaspip18-plong
 ee-exploration-profonde-caraibes-vacances</a></p><p> </p><p> </p><p><strong
 >LE SÉJOUR EN BREF</strong></p><p> </p><p>Pure sport/ Pour les niveaux 2 mi
 nimum, plongez en eaux profondes sur les meilleurs spots du nord Martinique
 . Perfectionnez vous au-delà des 20 mètres avec nos moniteurs et profitez d
 es eaux chaudes et limpides des Antilles lors de plongées autonomes.</p><p>
  </p><p>Séjour de 8 jours incluant 5 séances de plongée en profondeur, dont
  4 au-delà des 20m, et 4 séances de plongée en totale autonomie selon les p
 rérogatives rattachées à votre niveau. La côte Caraïbes, protégée de la hou
 le de l'Atlantique, est un des spots les plus réputés des Antilles. Les sit
 es du nord autour de Saint-Pierre ont été façonnés par l'environnement volc
 anique : du sable noir, des canyons formés par la lave suite à la catastrop
 he historique de l'éruption de la montagne Pelée en 1902. A partir des site
 s prestigieux et singuliers du secteur : le rocher de la Perle, les canyons
  de Babodi, la pointe Lamarre ou les jardins du Prêcheur, vous profitez des
  superbes décors avec tombants, canyons et jardins coralliens lors de plong
 ées profondes au delà de 40 mètres ou en autonomie. La vie sous-marine y es
 t riche de coraux, d'éponges, de poissons récifs et de tortues. De retour a
 u village sportif, vous apprécierez la piscine dominant la baie, les superb
 es couchers de soleil et l'ambiance paisible et authentique de Saint-Pierre
 . Pré requis Niveaux Validés : Niveau 2 Fédéral Français ou PE40 ou Advance
 d Open Water Diver + Deep Diver (SSI et PADI) ou CMAS** *</p><p> </p><p><st
 rong>LES TOPS DU PRODUIT</strong></p><p> </p><p>Plongées en eaux profondes 
 au delà des 20 mètres</p><p> </p><p>Sélection des meilleurs sites de plongé
 e Nord Caraïbes.</p><p>Base de plongée et bateaux à 150 m de l'hébergement.
 </p><p>Hébergement en chambre double avec piscine face à la mer</p><p> </p>
 <p><strong>Inclus</strong></p><p> </p><ul><li>Hébergement et restauration e
 n pension complète</li><li>5 plongées avec moniteur</li><li>4 plongées en a
 utonomie</li><li>Matériel de plongée </li></ul><p> </p><p><strong>Non Inclu
 s</strong></p><p> </p><ul><li>Les consommations bar</li><li>Les activités p
 endant les temps libres</li></ul><p> </p><p><strong>En option</strong></p><
 p> </p><ul><li>Excursion Sud de la Martinique</li></ul><p> </p><p> </p><p><
 strong>PRIX FORMULE 2 : 1780€ hors assurance</strong></p></div></td></tr></
 tbody></table><p>Si vous êtes intéressé(e) inscrivez-vous sur le site en cl
 iquant sur le lien qui suit :</p><center><a href="index.php/sorties/martini
 que-2026">Inscription à la sortie Martinique</a></center>
X-ALT-DESC;FMTTYPE=text/html:<table border="0" cellspacing="0" cellpadding="0"><tbody><tr><td><div conte
 nteditable="false" spellcheck="false"><p><strong>Envie d'eau chaude à la so
 rtie de l'hiver, de poissons et coraux multicolores et d'un peu de dépaysem
 ent, le FAR vous propose une destination cocotier fin mars début avril en M
 artinique dans le centre UCPA proche de St Pierre.</strong></p><p> </p><p><
 strong>Alors n'hésitez pas !</strong></p><p> </p><p><strong>Précision impor
 tante</strong> :  cette sortie est sous la responsabilité de l'UCPA et non 
 du FAR. Chaque inscription se fait individuellement directement sur le site
  de l'UCPA, le FAR ne fait que collecter les membres intéressés par la sort
 ie et fournir les informations nécessaires sur son déroulement.</p><p> </p>
 </div></td></tr><tr><td><div contenteditable="false" spellcheck="false"><h1
 >Descriptif</h1></div></td></tr><tr><td><div contenteditable="false" spellc
 heck="false"><p><strong>Lieu</strong> : Martinique - St Pierre</p><p><stron
 g>Dates</strong> : du 27/03 au 03/04/2026 (retour le matin du 04/04 selon i
 nfo UCPA)</p><p><strong>Niveaux</strong> : Ouvert à tous niveaux (voir form
 ules) </p><p><strong>Nombre de plongées</strong> : 9</p><p><strong>Âge</str
 ong> : <strong>18 à 55 ans - l'âge pris en compte étant celui au moment du 
 départ </strong></p><p> </p><p>A noter que l’encadrement se fera par l’équi
 pe UCPA sur place, selon les modalités rappelées dans les descriptifs ci-de
 ssous.</p><p> </p><p>Pas de gestion en groupe des inscriptions. Chacun doit
  s’inscrire individuellement sur le site de l’UCPA, en sélectionnant « acti
 vités », « mer », « plongée » et enfin, selon son choix, l’une des 2 formul
 es ci-dessous </p><p> </p><p>Les places étant en nombre limité, ne tardez p
 as à vous inscrire. Faites-le dès maintenant. </p><p> </p><p>Merci de vous 
 remplir le formulaire qui s'affichera en cliquant sur le bouton au bas de c
 ette communication <strong>et de vous inscrire sur le site de l'UCPA en sui
 vant l'un des deux liens fournis suivant la formule choisie</strong>. Le re
 mplissage du formulaire nous permet de connaître et de suivre la liste des 
 personnes inscrites à la sortie mais seule l'inscription sur le site de l'U
 CPA fait foi.</p><p> </p><p>A noter qu'au moment de l'inscription sur le si
 te de l'UCPA, un code promo peut être ajouté. La Licence FFESSM donne droit
  à -5%. Vérifier avec vos CE ou autre si vous avez mieux. </p><p> </p><p><a
  href="https://www.ucpa.com/activites/sejour-plongee" target="_blank" rel="
 noopener">https://www.ucpa.com/activites/sejour-plongee</a></p><p> </p><p> 
 </p><p><strong>Prix hors réduction et hors assurances ou option (excursions
 ) : </strong></p><ul><li>PRIX Formule 1 (Ouvert N1 mini) : <strong>1820 </s
 trong>€ hors assurance (+95€ avec assurance)</li><li>PRIX Formule 2 (Ouvert
  N2 mini) : <strong>1780 </strong>€ hors assurance (+95€ avec assurance)</l
 i></ul><p> </p><p>Conditions assurance à lire en suivant le lien suivant : 
 <a href="https://www.ucpa.com/assurances/%C2%A0" target="_blank" rel="noope
 ner">https://www.ucpa.com/assurances/ </a></p><p> </p><p>Les 2 formules dis
 ponibles sur ces dates en fonction du niveau :</p></div></td></tr><tr><td><
 hr /></td></tr><tr><td><div contenteditable="false" spellcheck="false"><h2>
 Formule 1 (Niveau 1 minimum) </h2><p> </p><p><strong>PLONGEE EXPLORATION MA
 RTINIQUE 8 JOURS</strong></p><p> </p><p>Martinique Saint Pierre </p><p>Une 
 semaine de plongée dans les eaux translucides de St Pierre</p><p> </p><p>Li
 en pour l'inscription sur le site de l'UCPA :</p><p> </p><p><a href="https:
 //www.ucpa.com/sejour/antilles/paaspip10-plongee-exploration-caraibes-vacan
 ces" target="_blank" rel="noopener">https://www.ucpa.com/sejour/antilles/pa
 aspip10-plongee-exploration-caraibes-vacances</a></p><p> </p><p><strong>LE 
 SÉJOUR EN BREF</strong></p><p> </p><p>Pure sport/ Vous êtes titulaire du 1e
 r niveau de plongée minimum et vous souhaitez profiter des conditions excep
 tionnelles des Antilles : eaux chaudes et translucides, fonds superbes et v
 ie sous-marine foisonnante. A partir du ponton de l'UCPA, situé au pied de 
 votre hébergement, vous avez un point de départ idéal pour accéder rapideme
 nt aux meilleurs sites de plongée du nord Caraïbes.</p><p> </p><p>Séjour d'
 une semaine incluant 9 plongées avec moniteur. La côte Caraïbes, protégée d
 e la houle de l'Atlantique, est un des spots les plus réputés des Antilles.
  Les sites du nord autour de Saint-Pierre ont été façonnés par l'environnem
 ent volcanique : du sable noir, et des canyons formés par la lave suite à l
 a catastrophe historique de l'éruption de la montagne Pelée en 1902. A part
 ir des sites prestigieux et singuliers du secteur : Le rocher de la Perle, 
 les canyons de Babodi, la pointe Lamarre ou les jardins du prêcheur, vous p
 rofitez des superbes décors avec tombants, canyons et jardins coralliens. L
 a vie sous-marine y est riche de coraux, d'éponges, de poissons récifs et d
 e tortues. De retour au village sportif, vous apprécierez la piscine domina
 nt la baie, les superbes couchers de soleil et l'ambiance paisible et authe
 ntique de Saint-Pierre. Pré requis Niveaux Validés : Niveau 1 Fédéral Franç
 ais ou Open Water Diver (SSI et PADI) ou CMAS* * </p><p> </p><p><strong>LES
  TOPS DU PRODUIT</strong></p><p> </p><p>Programme full plongée incluant 9 p
 longées</p><p>Sélection des meilleurs sites de plongée Nord Caraïbes</p><p>
 Base de plongée et bateaux à 150m de l'hébergement</p><p>Hébergement agréab
 le en chambre double avec piscine face à la mer</p><p> </p><p><strong>Inclu
 s</strong></p><p> </p><ul><li>Hébergement et restauration en pension complè
 te</li><li>9 séances de plongée avec moniteur</li><li>Le matériel de plongé
 e (sauf ordinateur)</li><li>L'animation des soirées</li></ul><p> </p><p><st
 rong>Non Inclus</strong></p><p> </p><ul><li>Les consommations bar</li><li>L
 es activités pendant les temps libres</li></ul><p> </p><p><strong>En option
 </strong></p><p> </p><ul><li>Excursion Sud de la Martinique</li></ul><p>  <
 /p><p><strong>PRIX FORMULE 1: 1820€ hors assurance</strong></p><p> </p></di
 v></td></tr><tr><td><hr /></td></tr><tr><td><div contenteditable="false" sp
 ellcheck="false"><h2>Formule 2 (Niveau 2 minimum) </h2><p> </p><p><strong>P
 LONGEE EXPLORATION MARTINIQUE 8 JOURS</strong></p><p> </p><p>PLONGEE EXPLOR
 ATION PROFONDE CARAIBES 8 JOURS</p><p>Les Antilles - Martinique St Pierre -
  Les Iles</p><p> </p><p>Lien pour l'inscription sur le site de l'UCPA :</p>
 <p> </p><p><a title="https://www.ucpa.com/sejour/antilles/paaspip18-plongee
 -exploration-profonde-caraibes-vacances" href="https://www.ucpa.com/sejour/
 antilles/paaspip18-plongee-exploration-profonde-caraibes-vacances" target="
 _blank" rel="noopener">https://www.ucpa.com/sejour/antilles/paaspip18-plong
 ee-exploration-profonde-caraibes-vacances</a></p><p> </p><p> </p><p><strong
 >LE SÉJOUR EN BREF</strong></p><p> </p><p>Pure sport/ Pour les niveaux 2 mi
 nimum, plongez en eaux profondes sur les meilleurs spots du nord Martinique
 . Perfectionnez vous au-delà des 20 mètres avec nos moniteurs et profitez d
 es eaux chaudes et limpides des Antilles lors de plongées autonomes.</p><p>
  </p><p>Séjour de 8 jours incluant 5 séances de plongée en profondeur, dont
  4 au-delà des 20m, et 4 séances de plongée en totale autonomie selon les p
 rérogatives rattachées à votre niveau. La côte Caraïbes, protégée de la hou
 le de l'Atlantique, est un des spots les plus réputés des Antilles. Les sit
 es du nord autour de Saint-Pierre ont été façonnés par l'environnement volc
 anique : du sable noir, des canyons formés par la lave suite à la catastrop
 he historique de l'éruption de la montagne Pelée en 1902. A partir des site
 s prestigieux et singuliers du secteur : le rocher de la Perle, les canyons
  de Babodi, la pointe Lamarre ou les jardins du Prêcheur, vous profitez des
  superbes décors avec tombants, canyons et jardins coralliens lors de plong
 ées profondes au delà de 40 mètres ou en autonomie. La vie sous-marine y es
 t riche de coraux, d'éponges, de poissons récifs et de tortues. De retour a
 u village sportif, vous apprécierez la piscine dominant la baie, les superb
 es couchers de soleil et l'ambiance paisible et authentique de Saint-Pierre
 . Pré requis Niveaux Validés : Niveau 2 Fédéral Français ou PE40 ou Advance
 d Open Water Diver + Deep Diver (SSI et PADI) ou CMAS** *</p><p> </p><p><st
 rong>LES TOPS DU PRODUIT</strong></p><p> </p><p>Plongées en eaux profondes 
 au delà des 20 mètres</p><p> </p><p>Sélection des meilleurs sites de plongé
 e Nord Caraïbes.</p><p>Base de plongée et bateaux à 150 m de l'hébergement.
 </p><p>Hébergement en chambre double avec piscine face à la mer</p><p> </p>
 <p><strong>Inclus</strong></p><p> </p><ul><li>Hébergement et restauration e
 n pension complète</li><li>5 plongées avec moniteur</li><li>4 plongées en a
 utonomie</li><li>Matériel de plongée </li></ul><p> </p><p><strong>Non Inclu
 s</strong></p><p> </p><ul><li>Les consommations bar</li><li>Les activités p
 endant les temps libres</li></ul><p> </p><p><strong>En option</strong></p><
 p> </p><ul><li>Excursion Sud de la Martinique</li></ul><p> </p><p> </p><p><
 strong>PRIX FORMULE 2 : 1780€ hors assurance</strong></p></div></td></tr></
 tbody></table><p>Si vous êtes intéressé(e) inscrivez-vous sur le site en cl
 iquant sur le lien qui suit :</p><center><a href="https://far92.fr/index.ph
 p/sorties/martinique-2026">Inscription à la sortie Martinique</a></center>
CONTACT:Fabien
DTSTAMP:20260421T223935
DTSTART;TZID=Europe/Paris:20260327T080000
DTEND;TZID=Europe/Paris:20260403T170000
SEQUENCE:0
TRANSP:OPAQUE
END:VEVENT
END:VCALENDAR